BEGIN:VCALENDAR
PRODID:-//eluceo/ical//2.0/EN
VERSION:2.0
CALSCALE:GREGORIAN
BEGIN:VEVENT
UID:event-25
DTSTAMP:20260424T193048Z
SUMMARY:Digitale transformatie = verandermanagement
DESCRIPTION:Digitale Transformatie Welk bedrijf is er niet bezig met de Dig
 itale Transformatie van haar organisatie? Welke organisatie worstelt niet 
 met de vraag hoe zij zo snel mogelijk innovaties kan implementeren om de c
 oncurentie te slim af te zijn? De techniek is niet meer de bottleneck maar
  het zijn de mensen van de organisatie die het tempo bepalen. Hoe krijg ji
 j jouw organisatie mee? Deze dag gaan wij met twee fantastische sprekers d
 e utopische situatie van een opnieuw uitgevonden bouwwereld bespreken\, is
  het een droomwereld of is het zo gek nog niet? Er zullen tevens praktisch
 e ervaringen uit de praktijk gedeeld worden. Programma Digital Transformat
 ion Stumico 15.30 uur Inloop 16.00 uur Opening 16.15 uur Digitaliseren van
  vastgoed met behulp van BIM                 Wouter Kolbeek &amp\;
  Casper Hofstee - Woonstad Rotterdam 17.00 uur Surfen op de digitale gol
 f                 René Dorleijn - Movares 18.00 uur Buffet maalt
 ijd met special guest! 19.00 uur Workshop Transformeren doe je samen    
              olv Anderson MacGyver 20.30 uur Borrel &amp\; netwerke
 n Digitaliseren van vastgoed met behulp van BIM - Case Woonstad Rotterdam
  Wouter Kolbeek en Casper Hofstee van Woonstad Rotterdam nemen u mee in ee
 n aansprekende case! Woonstad Rotterdam wil haar vastgoed digitaliseren en
  de data ontsluiten. Wouter: "Hiermee willen we efficiënter onderhouden e
 n betere service verlenen. Maar hoe digitaliseer je vastgoed op grote sch
 aal en neem je de organisatie hierin mee? Welke rol speelt BIM en tegen we
 lke uitdagingen loop je aan? Wij vertellen hoe we dit aanpakken en waar w
 e staan met ons ‘Vastgoed Informatie Programma’. Surfen op de digitale
  golf - Movares Ons gewaardeerd lid René Dorleijn\, binnen Movares verant
 woordelijke voor Digital Transformation komt zijn ervaringen delen. Hoe k
 un je als bestaande bedrijven en overheden surfen op de digitale golf in p
 laats van er in verdrinken? Daar is meer dan een digitaliseringsproces voo
 r nodig. Het vraagt om een digitale transformatie van de organisatie. De v
 erandering van mensen en processen moet gelijk op gaan met die van digital
 e technologie. Maar dat blijkt vaak erg weerbarstig.  Een surfplank kopen
  is het punt niet. Leren surfen is waar het om gaat. Maar hoe doe je dat? 
 En waar begin je? Van kleine teams tot grote organisaties: de principes zi
 jn hetzelfde. Het begint met anders kijken naar je eigen organisatie en da
 arna al lerend je eigen weg banen. Workshop Transformeren doe je samen 3D 
 en 4D BIM is essentieel voor een leidende positie in de bouwindustrie. He
 t beschikbaar maken van de techniek is echter niet genoeg. Tijdens de imp
 lementatie blijkt dat alle betrokken groepen een ander belang hebben bij 
 de innovatie. Denk aan projectmanagers\, de directie en de daadwerkelijke
  gebruikers van de software. Transformeren doe je samen. Hoe je dit doet?
  Ervaar het tijdens een interactieve case die geleid wordt door het geren
 omeerde Anderson MacGyver (https://www.andersonmacgyver.com/) die succesvo
 l transformaties begeleiden in verschillende branches.  Maak gebruik van 
 deze unieke kans! Schrijf je snel in\, want vol = vol.
DTSTART:20190625T133000Z
DTEND:20190625T193000Z
LOCATION:Fort De Batterijen Nieuwegein
END:VEVENT
BEGIN:VTIMEZONE
TZID:UTC
BEGIN:STANDARD
DTSTART:20190625T133000
TZNAME:UTC
TZOFFSETTO:+0000
TZOFFSETFROM:+0000
END:STANDARD
END:VTIMEZONE
END:VCALENDAR
